Package: HubPub Version: 1.18.0 Command: /home/biocbuild/bbs-3.22-bioc/R/bin/R CMD INSTALL HubPub StartedAt: 2025-11-13 15:12:05 -0500 (Thu, 13 Nov 2025) EndedAt: 2025-11-13 15:12:08 -0500 (Thu, 13 Nov 2025) EllapsedTime: 3.1 seconds RetCode: 0 Status: OK