Package: HilbertVis Version: 1.68.0 Command: /home/biocbuild/bbs-3.22-bioc/R/bin/R CMD build --keep-empty-dirs --no-resave-data --md5 HilbertVis StartedAt: 2025-11-14 18:11:42 -0500 (Fri, 14 Nov 2025) EndedAt: 2025-11-14 18:11:50 -0500 (Fri, 14 Nov 2025) EllapsedTime: 8.0 seconds RetCode: 0 Status: OK PackageFile: HilbertVis_1.68.0.tar.gz PackageFileSize: 1.207 MiB