Package: HilbertCurve Version: 2.4.0 Command: /home/biocbuild/bbs-3.22-bioc/R/bin/R CMD INSTALL HilbertCurve StartedAt: 2025-11-17 17:23:54 -0500 (Mon, 17 Nov 2025) EndedAt: 2025-11-17 17:24:15 -0500 (Mon, 17 Nov 2025) EllapsedTime: 20.7 seconds RetCode: 0 Status: OK