Package: HilbertCurve Version: 2.4.0 Command: /home/biocbuild/bbs-3.22-bioc/R/bin/R CMD build --keep-empty-dirs --no-resave-data --md5 HilbertCurve StartedAt: 2025-11-17 21:29:53 -0500 (Mon, 17 Nov 2025) EndedAt: 2025-11-17 21:30:16 -0500 (Mon, 17 Nov 2025) EllapsedTime: 23.0 seconds RetCode: 0 Status: OK PackageFile: HilbertCurve_2.4.0.tar.gz PackageFileSize: 409.3 KiB