Package: HicAggR Version: 1.6.0 Command: /home/biocbuild/bbs-3.22-bioc/R/bin/R CMD build --keep-empty-dirs --no-resave-data --md5 HicAggR StartedAt: 2025-11-06 18:05:47 -0500 (Thu, 06 Nov 2025) EndedAt: 2025-11-06 18:10:57 -0500 (Thu, 06 Nov 2025) EllapsedTime: 309.3 seconds RetCode: 0 Status: OK PackageFile: HicAggR_1.6.0.tar.gz PackageFileSize: 3.162 MiB