Package: HiTC Version: 1.53.1 Command: /home/biocbuild/bbs-3.22-bioc/R/bin/R CMD build --keep-empty-dirs --no-resave-data --md5 HiTC StartedAt: 2025-10-24 18:18:03 -0400 (Fri, 24 Oct 2025) EndedAt: 2025-10-24 18:20:10 -0400 (Fri, 24 Oct 2025) EllapsedTime: 127.1 seconds RetCode: 0 Status: OK PackageFile: HiTC_1.53.1.tar.gz PackageFileSize: 3.139 MiB