Package: HiLDA Version: 1.23.0 Command: /home/biocbuild/bbs-3.22-bioc/R/bin/R CMD INSTALL HiLDA StartedAt: 2025-10-24 16:11:24 -0400 (Fri, 24 Oct 2025) EndedAt: 2025-10-24 16:11:42 -0400 (Fri, 24 Oct 2025) EllapsedTime: 18.4 seconds RetCode: 0 Status: OK