Package: HiLDA Version: 1.24.0 Command: /Library/Frameworks/R.framework/Resources/bin/R CMD INSTALL HiLDA StartedAt: 2025-11-10 15:32:11 -0500 (Mon, 10 Nov 2025) EndedAt: 2025-11-10 15:32:18 -0500 (Mon, 10 Nov 2025) EllapsedTime: 6.2 seconds RetCode: 0 Status: OK