Package: HiLDA Version: 1.24.0 Command: /Library/Frameworks/R.framework/Resources/bin/R CMD build --keep-empty-dirs --no-resave-data HiLDA StartedAt: 2025-11-10 16:42:48 -0500 (Mon, 10 Nov 2025) EndedAt: 2025-11-10 16:43:50 -0500 (Mon, 10 Nov 2025) EllapsedTime: 62.7 seconds RetCode: 0 Status: OK PackageFile: HiLDA_1.24.0.tar.gz PackageFileSize: 2.462 MiB