Package: HiLDA Version: 1.24.0 Command: rm -rf HiLDA.buildbin-libdir && mkdir HiLDA.buildbin-libdir && /Users/biocbuild/BBS/utils/build-universal.sh HiLDA_1.24.0.tar.gz /Library/Frameworks/R.framework/Resources/bin/R HiLDA.buildbin-libdir StartedAt: 2025-11-10 23:23:17 -0500 (Mon, 10 Nov 2025) EndedAt: 2025-11-10 23:23:24 -0500 (Mon, 10 Nov 2025) EllapsedTime: 7.2 seconds RetCode: 0 Status: OK PackageFile: HiLDA_1.24.0.tgz PackageFileSize: 2.611 MiB