Package: HiContacts Version: 1.11.0 Command: /home/biocbuild/bbs-3.22-bioc/R/bin/R CMD INSTALL HiContacts StartedAt: 2025-10-24 15:36:00 -0400 (Fri, 24 Oct 2025) EndedAt: 2025-10-24 15:36:30 -0400 (Fri, 24 Oct 2025) EllapsedTime: 29.9 seconds RetCode: 0 Status: OK