Package: HiCcompare Version: 1.32.0 Command: /Library/Frameworks/R.framework/Resources/bin/R CMD build --keep-empty-dirs --no-resave-data HiCcompare StartedAt: 2025-11-10 16:41:23 -0500 (Mon, 10 Nov 2025) EndedAt: 2025-11-10 16:41:48 -0500 (Mon, 10 Nov 2025) EllapsedTime: 25.3 seconds RetCode: 0 Status: OK PackageFile: HiCcompare_1.32.0.tar.gz PackageFileSize: 3.687 MiB