Package: HiCaptuRe Version: 1.0.0 Command: /home/biocbuild/bbs-3.22-bioc/R/bin/R CMD INSTALL HiCaptuRe StartedAt: 2025-11-06 15:56:28 -0500 (Thu, 06 Nov 2025) EndedAt: 2025-11-06 15:57:25 -0500 (Thu, 06 Nov 2025) EllapsedTime: 56.4 seconds RetCode: 0 Status: OK