Package: HiCParser Version: 1.2.0 Command: /Library/Frameworks/R.framework/Resources/bin/R CMD INSTALL HiCParser StartedAt: 2025-11-10 15:14:39 -0500 (Mon, 10 Nov 2025) EndedAt: 2025-11-10 15:14:50 -0500 (Mon, 10 Nov 2025) EllapsedTime: 11.2 seconds RetCode: 0 Status: OK