Package: HiCParser Version: 1.2.0 Command: /Library/Frameworks/R.framework/Resources/bin/R CMD build --keep-empty-dirs --no-resave-data HiCParser StartedAt: 2025-11-10 16:42:09 -0500 (Mon, 10 Nov 2025) EndedAt: 2025-11-10 16:42:28 -0500 (Mon, 10 Nov 2025) EllapsedTime: 18.2 seconds RetCode: 0 Status: OK PackageFile: HiCParser_1.2.0.tar.gz PackageFileSize: 324.3 KiB