Package: HiCExperiment Version: 1.10.0 Command: /home/biocbuild/bbs-3.22-bioc/R/bin/R CMD INSTALL HiCExperiment StartedAt: 2025-11-06 15:25:28 -0500 (Thu, 06 Nov 2025) EndedAt: 2025-11-06 15:25:58 -0500 (Thu, 06 Nov 2025) EllapsedTime: 29.3 seconds RetCode: 0 Status: OK