Package: HiCExperiment Version: 1.10.0 Command: /home/biocbuild/bbs-3.22-bioc/R/bin/R CMD build --keep-empty-dirs --no-resave-data --md5 HiCExperiment StartedAt: 2025-11-06 18:06:15 -0500 (Thu, 06 Nov 2025) EndedAt: 2025-11-06 18:09:09 -0500 (Thu, 06 Nov 2025) EllapsedTime: 173.1 seconds RetCode: 0 Status: OK PackageFile: HiCExperiment_1.10.0.tar.gz PackageFileSize: 1014 KiB