Package: HiCDOC Version: 1.11.2 Command: /home/biocbuild/bbs-3.22-bioc/R/bin/R CMD INSTALL HiCDOC StartedAt: 2025-10-28 15:31:43 -0400 (Tue, 28 Oct 2025) EndedAt: 2025-10-28 15:32:25 -0400 (Tue, 28 Oct 2025) EllapsedTime: 42.4 seconds RetCode: 0 Status: OK