Package: HiCDCPlus Version: 1.17.0 Command: /home/biocbuild/bbs-3.22-bioc/R/bin/R CMD INSTALL HiCDCPlus StartedAt: 2025-10-24 16:06:40 -0400 (Fri, 24 Oct 2025) EndedAt: 2025-10-24 16:07:22 -0400 (Fri, 24 Oct 2025) EllapsedTime: 42.1 seconds RetCode: 0 Status: OK