Package: HiCDCPlus Version: 1.18.0 Command: /Library/Frameworks/R.framework/Resources/bin/R CMD INSTALL HiCDCPlus StartedAt: 2025-11-10 15:28:10 -0500 (Mon, 10 Nov 2025) EndedAt: 2025-11-10 15:28:27 -0500 (Mon, 10 Nov 2025) EllapsedTime: 17.0 seconds RetCode: 0 Status: OK