Package: HiCDCPlus Version: 1.18.0 Command: rm -rf HiCDCPlus.buildbin-libdir && mkdir HiCDCPlus.buildbin-libdir && /Users/biocbuild/BBS/utils/build-universal.sh HiCDCPlus_1.18.0.tar.gz /Library/Frameworks/R.framework/Resources/bin/R HiCDCPlus.buildbin-libdir StartedAt: 2025-11-10 23:23:06 -0500 (Mon, 10 Nov 2025) EndedAt: 2025-11-10 23:23:24 -0500 (Mon, 10 Nov 2025) EllapsedTime: 18.4 seconds RetCode: 0 Status: OK PackageFile: HiCDCPlus_1.18.0.tgz PackageFileSize: 1.417 MiB