Package: HelloRanges Version: 1.35.2 Command: /home/biocbuild/bbs-3.22-bioc/R/bin/R CMD INSTALL HelloRanges StartedAt: 2025-10-28 15:40:12 -0400 (Tue, 28 Oct 2025) EndedAt: 2025-10-28 15:40:53 -0400 (Tue, 28 Oct 2025) EllapsedTime: 40.5 seconds RetCode: 0 Status: OK