Package: HelloRanges Version: 1.35.2 Command: /home/biocbuild/bbs-3.22-bioc/R/bin/R CMD build --keep-empty-dirs --no-resave-data --md5 HelloRanges StartedAt: 2025-10-27 18:04:53 -0400 (Mon, 27 Oct 2025) EndedAt: 2025-10-27 18:08:42 -0400 (Mon, 27 Oct 2025) EllapsedTime: 229.2 seconds RetCode: 0 Status: OK PackageFile: HelloRanges_1.35.2.tar.gz PackageFileSize: 955.6 KiB