Package: HelloRanges Version: 1.36.0 Command: /Library/Frameworks/R.framework/Resources/bin/R CMD INSTALL HelloRanges StartedAt: 2025-11-06 15:20:59 -0500 (Thu, 06 Nov 2025) EndedAt: 2025-11-06 15:21:16 -0500 (Thu, 06 Nov 2025) EllapsedTime: 16.8 seconds RetCode: 0 Status: OK