Package: HelloRanges Version: 1.36.0 Command: /Library/Frameworks/R.framework/Resources/bin/R CMD build --keep-empty-dirs --no-resave-data HelloRanges StartedAt: 2025-11-06 16:40:03 -0500 (Thu, 06 Nov 2025) EndedAt: 2025-11-06 16:41:45 -0500 (Thu, 06 Nov 2025) EllapsedTime: 102.1 seconds RetCode: 0 Status: OK PackageFile: HelloRanges_1.36.0.tar.gz PackageFileSize: 951.6 KiB