Package: HelloRanges Version: 1.36.0 Command: rm -rf HelloRanges.buildbin-libdir && mkdir HelloRanges.buildbin-libdir && /Users/biocbuild/BBS/utils/build-universal.sh HelloRanges_1.36.0.tar.gz /Library/Frameworks/R.framework/Resources/bin/R HelloRanges.buildbin-libdir StartedAt: 2025-11-06 23:07:53 -0500 (Thu, 06 Nov 2025) EndedAt: 2025-11-06 23:08:12 -0500 (Thu, 06 Nov 2025) EllapsedTime: 18.5 seconds RetCode: 0 Status: OK PackageFile: HelloRanges_1.36.0.tgz PackageFileSize: 967.9 KiB