Package: HelloRanges Version: 1.36.0 Command: rm -rf HelloRanges.buildbin-libdir && mkdir HelloRanges.buildbin-libdir && /Users/biocbuild/BBS/utils/build-universal.sh HelloRanges_1.36.0.tar.gz /Library/Frameworks/R.framework/Resources/bin/R HelloRanges.buildbin-libdir StartedAt: 2025-11-23 09:06:09 -0500 (Sun, 23 Nov 2025) EndedAt: 2025-11-23 09:07:23 -0500 (Sun, 23 Nov 2025) EllapsedTime: 74.4 seconds RetCode: 0 Status: OK PackageFile: HelloRanges_1.36.0.tgz PackageFileSize: 966.8 KiB