Package: Harshlight Version: 1.81.1 Command: /home/biocbuild/bbs-3.22-bioc/R/bin/R CMD INSTALL Harshlight StartedAt: 2025-10-24 15:26:15 -0400 (Fri, 24 Oct 2025) EndedAt: 2025-10-24 15:26:16 -0400 (Fri, 24 Oct 2025) EllapsedTime: 1.1 seconds RetCode: 1 Status: ERROR