Package: HTqPCR Version: 1.63.0 Command: /home/biocbuild/bbs-3.22-bioc/R/bin/R CMD INSTALL HTqPCR StartedAt: 2025-10-24 16:11:25 -0400 (Fri, 24 Oct 2025) EndedAt: 2025-10-24 16:11:32 -0400 (Fri, 24 Oct 2025) EllapsedTime: 7.1 seconds RetCode: 0 Status: OK