Package: HTqPCR Version: 1.64.0 Command: /Library/Frameworks/R.framework/Resources/bin/R CMD INSTALL HTqPCR StartedAt: 2025-11-10 15:32:12 -0500 (Mon, 10 Nov 2025) EndedAt: 2025-11-10 15:32:16 -0500 (Mon, 10 Nov 2025) EllapsedTime: 3.1 seconds RetCode: 0 Status: OK