Package: HTqPCR Version: 1.64.0 Command: /Library/Frameworks/R.framework/Resources/bin/R CMD build --keep-empty-dirs --no-resave-data HTqPCR StartedAt: 2025-11-10 16:43:31 -0500 (Mon, 10 Nov 2025) EndedAt: 2025-11-10 16:43:40 -0500 (Mon, 10 Nov 2025) EllapsedTime: 9.1 seconds RetCode: 0 Status: OK PackageFile: HTqPCR_1.64.0.tar.gz PackageFileSize: 2.58 MiB