Package: HGC Version: 1.18.0 Command: /home/biocbuild/bbs-3.22-bioc/R/bin/R CMD INSTALL HGC StartedAt: 2025-11-17 17:07:36 -0500 (Mon, 17 Nov 2025) EndedAt: 2025-11-17 17:08:10 -0500 (Mon, 17 Nov 2025) EllapsedTime: 34.5 seconds RetCode: 0 Status: OK