Package: HELP Version: 1.67.0 Command: /home/biocbuild/bbs-3.22-bioc/R/bin/R CMD INSTALL HELP StartedAt: 2025-10-24 15:24:58 -0400 (Fri, 24 Oct 2025) EndedAt: 2025-10-24 15:25:02 -0400 (Fri, 24 Oct 2025) EllapsedTime: 4.3 seconds RetCode: 0 Status: OK