Package: HDF5Array Version: 1.38.0 Command: /Library/Frameworks/R.framework/Resources/bin/R CMD INSTALL HDF5Array StartedAt: 2025-10-31 15:40:32 -0400 (Fri, 31 Oct 2025) EndedAt: 2025-10-31 15:41:02 -0400 (Fri, 31 Oct 2025) EllapsedTime: 29.9 seconds RetCode: 0 Status: OK