Package: HDF5Array Version: 1.38.0 Command: rm -rf HDF5Array.buildbin-libdir && mkdir HDF5Array.buildbin-libdir && /Users/biocbuild/BBS/utils/build-universal.sh HDF5Array_1.38.0.tar.gz /Library/Frameworks/R.framework/Resources/bin/R HDF5Array.buildbin-libdir StartedAt: 2025-11-01 01:38:08 -0400 (Sat, 01 Nov 2025) EndedAt: 2025-11-01 01:38:41 -0400 (Sat, 01 Nov 2025) EllapsedTime: 33.3 seconds RetCode: 0 Status: OK PackageFile: HDF5Array_1.38.0.tgz PackageFileSize: 8.586 MiB