Package: HDF5Array Version: 1.37.0 Command: /Library/Frameworks/R.framework/Resources/bin/R CMD build --keep-empty-dirs --no-resave-data HDF5Array StartedAt: 2025-10-23 16:41:57 -0400 (Thu, 23 Oct 2025) EndedAt: 2025-10-23 16:48:18 -0400 (Thu, 23 Oct 2025) EllapsedTime: 381.3 seconds RetCode: 0 Status: OK PackageFile: HDF5Array_1.37.0.tar.gz PackageFileSize: 7.968 MiB