Package: GreyListChIP Version: 1.42.0 Command: /home/biocbuild/bbs-3.22-bioc/R/bin/R CMD INSTALL GreyListChIP StartedAt: 2025-11-10 15:33:25 -0500 (Mon, 10 Nov 2025) EndedAt: 2025-11-10 15:34:02 -0500 (Mon, 10 Nov 2025) EllapsedTime: 36.5 seconds RetCode: 0 Status: OK