Package: GreyListChIP Version: 1.42.0 Command: /home/biocbuild/bbs-3.22-bioc/R/bin/R CMD build --keep-empty-dirs --no-resave-data --md5 GreyListChIP StartedAt: 2025-11-10 18:05:29 -0500 (Mon, 10 Nov 2025) EndedAt: 2025-11-10 18:06:16 -0500 (Mon, 10 Nov 2025) EllapsedTime: 47.0 seconds RetCode: 0 Status: OK PackageFile: GreyListChIP_1.42.0.tar.gz PackageFileSize: 342.2 KiB