Package: GraphAlignment Version: 1.73.0 Command: /home/biocbuild/R/R/bin/R CMD INSTALL GraphAlignment StartedAt: 2025-10-23 20:24:00 -0000 (Thu, 23 Oct 2025) EndedAt: 2025-10-23 20:24:36 -0000 (Thu, 23 Oct 2025) EllapsedTime: 35.7 seconds RetCode: 0 Status: OK