Package: GraphAlignment Version: 1.73.0 Command: /home/biocbuild/bbs-3.22-bioc/R/bin/R CMD INSTALL GraphAlignment StartedAt: 2025-10-24 15:17:58 -0400 (Fri, 24 Oct 2025) EndedAt: 2025-10-24 15:18:18 -0400 (Fri, 24 Oct 2025) EllapsedTime: 20.5 seconds RetCode: 0 Status: OK