Package: GraphAlignment Version: 1.73.0 Command: /Library/Frameworks/R.framework/Resources/bin/R CMD INSTALL GraphAlignment StartedAt: 2025-10-24 15:17:22 -0400 (Fri, 24 Oct 2025) EndedAt: 2025-10-24 15:18:03 -0400 (Fri, 24 Oct 2025) EllapsedTime: 40.9 seconds RetCode: 0 Status: OK