Package: GraphAlignment Version: 1.73.0 Command: rm -rf GraphAlignment.buildbin-libdir && mkdir GraphAlignment.buildbin-libdir && /Users/biocbuild/BBS/utils/build-universal.sh GraphAlignment_1.73.0.tar.gz /Library/Frameworks/R.framework/Resources/bin/R GraphAlignment.buildbin-libdir StartedAt: 2025-10-25 01:43:37 -0400 (Sat, 25 Oct 2025) EndedAt: 2025-10-25 01:43:46 -0400 (Sat, 25 Oct 2025) EllapsedTime: 9.3 seconds RetCode: 0 Status: OK PackageFile: GraphAlignment_1.73.0.tgz PackageFileSize: 574.1 KiB