Package: GraphAlignment Version: 1.74.0 Command: /Library/Frameworks/R.framework/Resources/bin/R CMD INSTALL GraphAlignment StartedAt: 2025-11-17 17:01:51 -0500 (Mon, 17 Nov 2025) EndedAt: 2025-11-17 17:01:52 -0500 (Mon, 17 Nov 2025) EllapsedTime: 1.6 seconds RetCode: 0 Status: OK