Package: GraphAlignment Version: 1.74.0 Command: /Library/Frameworks/R.framework/Resources/bin/R CMD build --keep-empty-dirs --no-resave-data GraphAlignment StartedAt: 2025-11-17 21:43:01 -0500 (Mon, 17 Nov 2025) EndedAt: 2025-11-17 21:43:06 -0500 (Mon, 17 Nov 2025) EllapsedTime: 5.1 seconds RetCode: 0 Status: OK PackageFile: GraphAlignment_1.74.0.tar.gz PackageFileSize: 591.9 KiB