Package: GraphAT Version: 1.82.0 Command: /home/biocbuild/R/R/bin/R CMD INSTALL GraphAT StartedAt: 2025-11-17 21:18:26 -0000 (Mon, 17 Nov 2025) EndedAt: 2025-11-17 21:18:41 -0000 (Mon, 17 Nov 2025) EllapsedTime: 15.2 seconds RetCode: 0 Status: OK