Package: GraphAT Version: 1.81.0 Command: /home/biocbuild/bbs-3.22-bioc/R/bin/R CMD INSTALL GraphAT StartedAt: 2025-10-28 15:12:17 -0400 (Tue, 28 Oct 2025) EndedAt: 2025-10-28 15:12:24 -0400 (Tue, 28 Oct 2025) EllapsedTime: 7.2 seconds RetCode: 0 Status: OK