Package: GraphAT Version: 1.82.0 Command: /Library/Frameworks/R.framework/Resources/bin/R CMD INSTALL GraphAT StartedAt: 2025-11-17 17:11:58 -0500 (Mon, 17 Nov 2025) EndedAt: 2025-11-17 17:12:13 -0500 (Mon, 17 Nov 2025) EllapsedTime: 14.9 seconds RetCode: 0 Status: OK