Package: GraphAT Version: 1.81.0 Command: /Library/Frameworks/R.framework/Resources/bin/R CMD INSTALL GraphAT StartedAt: 2025-10-27 15:06:50 -0400 (Mon, 27 Oct 2025) EndedAt: 2025-10-27 15:06:52 -0400 (Mon, 27 Oct 2025) EllapsedTime: 2.9 seconds RetCode: 0 Status: OK