Package: GraphAT Version: 1.82.0 Command: /Library/Frameworks/R.framework/Resources/bin/R CMD build --keep-empty-dirs --no-resave-data GraphAT StartedAt: 2025-11-17 21:43:02 -0500 (Mon, 17 Nov 2025) EndedAt: 2025-11-17 21:43:03 -0500 (Mon, 17 Nov 2025) EllapsedTime: 1.0 seconds RetCode: 0 Status: OK PackageFile: GraphAT_1.82.0.tar.gz PackageFileSize: 1.884 MiB