Package: GraphAT Version: 1.82.0 Command: rm -rf GraphAT.buildbin-libdir && mkdir GraphAT.buildbin-libdir && /Users/biocbuild/BBS/utils/build-universal.sh GraphAT_1.82.0.tar.gz /Library/Frameworks/R.framework/Resources/bin/R GraphAT.buildbin-libdir StartedAt: 2025-11-18 15:40:09 -0500 (Tue, 18 Nov 2025) EndedAt: 2025-11-18 15:40:13 -0500 (Tue, 18 Nov 2025) EllapsedTime: 4.1 seconds RetCode: 0 Status: OK PackageFile: GraphAT_1.82.0.tgz PackageFileSize: 1.918 MiB